BEGIN:VCALENDAR
VERSION:2.0
PRODID:-//eventon.com NONSGML v1.0//EN
CALSCALE:GREGORIAN
METHOD:PUBLISH
BEGIN:VEVENT
UID:69e73c42ba4ba
DTSTAMP:20260421T085842Z
DTSTART:20251113
DTEND:20251114
LOCATION:
SUMMARY:Winterspielplatz
DESCRIPTION:Unser Winterspielplatz hat ab 13. November wieder geöffnet! Hi
 er gibt es bei jedem Wetter viel Platz zum Krabbeln\,  Spielen\,  Bauen und
  Toben in verschiedenen Themenbereichen. Weitere Infos gibt es hier.\nhttps
 ://www.friedenskirche-neu-ulm.de/events/winterspielplatz/
URL:https://www.friedenskirche-neu-ulm.de/events/winterspielplatz/
END:VEVENT
END:VCALENDAR