BEGIN:VCALENDAR
VERSION:2.0
PRODID:-//eventon.com NONSGML v1.0//EN
CALSCALE:GREGORIAN
METHOD:PUBLISH
BEGIN:VEVENT
UID:69ea1d11ef4a9
DTSTAMP:20260423T132225Z
DTSTART:20260424T160000Z
DTEND:20260425T160000Z
LOCATION:Friedenskirche im Wiley John-F.-Kennedy-Str. 6
SUMMARY:24 Stunden Gebet
DESCRIPTION:24 Stunden Gebet\,  Lobpreis\,  Fürbitte\,  Stille und vor all
 em Gemeinschaft mit IHM. Was für ein Privileg! Komm wann Du möchtest und 
 bleib so lange du möchtest. ER freut sich auf Dich und die Zeit mit Dir!\n
 https://www.friedenskirche-neu-ulm.de/events/24-h-gebet/
URL:https://www.friedenskirche-neu-ulm.de/events/24-h-gebet/
END:VEVENT
END:VCALENDAR