BEGIN:VCALENDAR
VERSION:2.0
PRODID:-//eventon.com NONSGML v1.0//EN
CALSCALE:GREGORIAN
METHOD:PUBLISH
BEGIN:VEVENT
UID:69ea1be89daa4
DTSTAMP:20260423T131728Z
DTSTART:20260612
DTEND:20260613
LOCATION:
SUMMARY:MÃ¤nnerfreizeit
DESCRIPTION:12.06.-14.06.2026 in Heuberghaus\,  Hirschegg (Kleinwalsertal) 
 Pack deinen Rucksack und lass den Alltag hinter dir! Raus aus dem Alltag â€
 “ rein in die Berge! Du hast Lust auf Natur\,  Bewegung und richtig gute Ge
 meinschaft? Egal ob du gemÃ¼tlich unterwegs bist oder sportlich Gas geben w
 illst â€“ beim Wandern ist fÃ¼r jeden[..]\nhttps://www.friedenskirche-neu-u
 lm.de/events/maenner-wochenende/
URL:https://www.friedenskirche-neu-ulm.de/events/maenner-wochenende/
END:VEVENT
END:VCALENDAR