BEGIN:VCALENDAR
VERSION:2.0
PRODID:-//eventon.com NONSGML v1.0//EN
CALSCALE:GREGORIAN
METHOD:PUBLISH
BEGIN:VEVENT
UID:69e4ddec2c5dd
DTSTAMP:20260419T135140Z
DTSTART:20250627
DTEND:20250628
LOCATION:
SUMMARY:Männeraktion: Jugger Kampf
DESCRIPTION:Du hast genug vom Alltagstrott? Dann schnapp dir deine Männere
 hre und komm vorbei zum Männerabend mit Jugger-Action! Was ist Jugger? –
  Stell dir Gladiatorenkämpfe mit Schaumstoff vor. Fair. Lustig. Männlich.
  Ob du der geborene Krieger bist oder einfach nur Dampf ablassen willst –
  hier geht’s nur um Spaß\,  Schweiß und[..]\nhttps://www.friedenskirche
 -neu-ulm.de/events/maenneraktion/
URL:https://www.friedenskirche-neu-ulm.de/events/maenneraktion/
END:VEVENT
END:VCALENDAR