BEGIN:VCALENDAR
VERSION:2.0
PRODID:-//eventon.com NONSGML v1.0//EN
CALSCALE:GREGORIAN
METHOD:PUBLISH
BEGIN:VEVENT
UID:69e89416651c7
DTSTAMP:20260422T092542Z
DTSTART:20250527T173000Z
DTEND:20250527T215900Z
LOCATION:
SUMMARY:Beweise für den christlichen Glauben
DESCRIPTION:Vom Zweifel zur begründeten Überzeugung Gibt es Wahrheit? Gib
 t es Gott? Sind Wunder möglich? Ist das Neue Testament glaubhaft? Wir lade
 n herzlich zu einem Vortragsabend ein! Tauche ein in die großen Fragen des
  Lebens! Spannende Argumente aus Philosophie\,  Naturwissenschaft und Gesch
 ichte erwarten dich: Gibt es eine objektive Wahrheit und wie[..]\nhttps://w
 ww.friedenskirche-neu-ulm.de/events/beweise-fuer-den-christlichen-glauben/
URL:https://www.friedenskirche-neu-ulm.de/events/beweise-fuer-den-christlichen-glauben/
END:VEVENT
END:VCALENDAR