BEGIN:VCALENDAR
VERSION:2.0
PRODID:-//eventon.com NONSGML v1.0//EN
CALSCALE:GREGORIAN
METHOD:PUBLISH
BEGIN:VEVENT
UID:69e73d4de85d5
DTSTAMP:20260421T090309Z
DTSTART:20261015T173000Z
DTEND:20261015T215900Z
LOCATION:
SUMMARY:Infoabend
DESCRIPTION:An diesem Abend stellen wir Ihnen die Friedenskirche vor und Si
 e bekommen einen Blick hinter die Kulissen: Was sind wir für eine Gemeinde
 ? Was sind unsere Ziele? Welche Gruppen und Schwerpunkte gibt es? Wer bezah
 lt das alles? Wie werden Entscheidungen getroffen? Jede(r) ist herzlich zu 
 diesem unverbindlichen Infoabend eingeladen. Wir[..]\nhttps://www.friedensk
 irche-neu-ulm.de/events/infoabend/var/ri-2.l-L1
URL:https://www.friedenskirche-neu-ulm.de/events/infoabend/var/ri-2.l-L1
END:VEVENT
END:VCALENDAR