BEGIN:VCALENDAR
VERSION:2.0
PRODID:-//eventon.com NONSGML v1.0//EN
CALSCALE:GREGORIAN
METHOD:PUBLISH
BEGIN:VEVENT
UID:69e4d4afa505c
DTSTAMP:20260419T131215Z
DTSTART:20261213T140000Z
DTEND:20261213T225900Z
LOCATION:
SUMMARY:Krabbel-Zappel mit Ilselotte
DESCRIPTION:Für Familien mit Kindern von 0-6 Jahren und deren Geschwister 
 Das Kinderhaus und die Friedenskirche veranstalten gemeinsam einen kunterbu
 nten Gottesdienst. Handpuppe Ilselotte ist auch mit dabei und freut sich\, 
  mit dir eine spannende Geschichte zu hören\,  Lieder zu singen und zu bas
 teln. Danach gibt es Kaffee und Kuchen! Bringt bitte[..]\nhttps://www.fried
 enskirche-neu-ulm.de/events/krabbel-zappel-gottesdienst/var/ri-3.l-L1
URL:https://www.friedenskirche-neu-ulm.de/events/krabbel-zappel-gottesdienst/var/ri-3.l-L1
END:VEVENT
END:VCALENDAR